{"text_format":"2","workbook":"xlsx","n_sheets":4,"sheets":["1.집계표(구분1)","2.집계표(구분2)","3. 교육이수 현황(소속 기준)","4. 교육이수 현황(이수율 기준)"],"not_rendered":{"charts":0,"images":0,"macros":0,"external_links":0,"defined_names":6,"comments":0,"pivot_tables":0},"unopened":[],"bounds":{"document_bytes":16777216,"sheet_cells":100000,"run_cost":"one","rows_first":2000,"rows_last":500,"rows_between":2000,"halvings":0,"cell_chars":16384,"cell_head_chars":4096},"cells_cut":0,"cells_raw":0,"read":"whole","date_system":"1900"}

{"sheet":"1.집계표(구분1)","index":0,"n_rows":9,"n_cols":6,"rows_kept":9,"cut":false,"hidden":false,"merged":[[1,0,1,5],[2,0,2,2],[2,3,2,5],[8,0,8,1]]}
[]
["2026학년도 1학기 연구활동종사자 정기안전교육(전체) 이수율 집계표[최종]"]
[null,null,null,"[기준: 2026.04.02.최종]"]
["구 분","대학/기관","대상자(명)","이수자(명)","미이수자(명)","이수율(%)"]
["교원","교원/직원",{"$f":"'2.집계표(구분2)'!C7","v":150},{"$f":"'2.집계표(구분2)'!D7","v":36},{"$f":"C5-D5","v":114},{"$f":"D5/C5","v":0.24}]
["학부생","전체",{"$f":"'2.집계표(구분2)'!C13","v":3674},{"$f":"'2.집계표(구분2)'!D13","v":1499},{"$f":"C6-D6","v":2175},0.40800217746325529]
["대학원생","전체",{"$f":"'2.집계표(구분2)'!C17","v":658},{"$f":"'2.집계표(구분2)'!D17","v":224},{"$f":"C7-D7","v":434},0.34042553191489361]
["연구원","미래산학협력단",{"$f":"'2.집계표(구분2)'!C19","v":29},{"$f":"'2.집계표(구분2)'!D19","v":9},{"$f":"C8-D8","v":20},0.31034482758620691]
["합계",null,{"$f":"SUM(C5:C8)","v":4511},{"$f":"SUM(D5:D8)","v":1768},{"$f":"SUM(E5:E8)","v":2743},{"$f":"D9/C9","v":0.39193083573487031}]

{"sheet":"2.집계표(구분2)","index":1,"n_rows":20,"n_cols":6,"rows_kept":20,"cut":false,"hidden":false,"merged":[[13,0,15,0],[16,0,16,1],[19,0,19,1],[1,0,1,5],[2,0,2,2],[2,3,2,5],[6,0,6,1],[12,0,12,1],[18,0,18,1],[7,0,11,0]]}
[]
["2026학년도 1학기 연구활동종사자 정기안전교육(전체) 이수율 집계표"]
[null,null,null,{"$f":"'1.집계표(구분1)'!D3:F3","v":"[기준: 2026.04.02.최종]"}]
["구 분","대학/기관","대상자(명)","이수자(명)","미이수자(명)","이수율(%)"]
["교원","교원",{"$f":"'3. 교육이수 현황(소속 기준)'!E5","v":139},{"$f":"'3. 교육이수 현황(소속 기준)'!F5","v":33},{"$f":"C5-D5","v":106},{"$f":"D5/C5","v":0.23741007194244604}]
["직원","실습지원 직원",{"$f":"'3. 교육이수 현황(소속 기준)'!E7","v":11},{"$f":"'3. 교육이수 현황(소속 기준)'!F7","v":3},{"$f":"C6-D6","v":8},{"$f":"D6/C6","v":0.27272727272727271}]
["소 계",null,{"$f":"SUM(C5:C6)","v":150},{"$f":"SUM(D5:D6)","v":36},{"$f":"SUM(C7-D7)","v":114},{"$f":"D7/C7","v":0.24}]
["학부생","글로벌창의융합대학\n디자인예술학부",{"$f":"'3. 교육이수 현황(소속 기준)'!E76+'3. 교육이수 현황(소속 기준)'!E77+'3. 교육이수 현황(소속 기준)'!E78+'3. 교육이수 현황(소속 기준)'!E79+'3. 교육이수 현황(소속 기준)'!E80+'3. 교육이수 현황(소속 기준)'!E116+'3. 교육이수 현황(소속 기준)'!E117+'3. 교육이수 현황(소속 기준)'!E118+'3. 교육이수 현황(소속 기준)'!E119","v":261},{"$f":"'3. 교육이수 현황(소속 기준)'!F76+'3. 교육이수 현황(소속 기준)'!F77+'3. 교육이수 현황(소속 기준)'!F78+'3. 교육이수 현황(소속 기준)'!F79+'3. 교육이수 현황(소속 기준)'!F80+'3. 교육이수 현황(소속 기준)'!F116+'3. 교육이수 현황(소속 기준)'!F117+'3. 교육이수 현황(소속 기준)'!F118+'3. 교육이수 현황(소속 기준)'!F119","v":37},{"$f":"C8-D8","v":224},{"$f":"D8/C8","v":0.1417624521072797}]
[null,"과학기술대학\n(과학기술융합대학 포함)",{"$f":"'3. 교육이수 현황(소속 기준)'!E39+'3. 교육이수 현황(소속 기준)'!E54+'3. 교육이수 현황(소속 기준)'!E55+'3. 교육이수 현황(소속 기준)'!E56+'3. 교육이수 현황(소속 기준)'!E57+'3. 교육이수 현황(소속 기준)'!E58+'3. 교육이수 현황(소속 기준)'!E59+'3. 교육이수 현황(소속 기준)'!E60+'3. 교육이수 현황(소속 기준)'!E61+'3. 교육이수 현황(소속 기준)'!E62+'3. 교육이수 현황(소속 기준)'!E63+'3. 교육이수 현황(소속 기준)'!E64+'3. 교육이수 현황(소속 기준)'!E65+'3. 교육이수 현황(소속 기준)'!E66+'3. 교육이수 현황(소속 기준)'!E67+'3. 교육이수 현황(소속 기준)'!E68+'3. 교육이수 현황(소속 기준)'!E69+'3. 교육이수 현황(소속 기준)'!E70+'3. 교육이수 현황(소속 기준)'!E71+'3. 교육이수 현황(소속 기준)'!E72+'3. 교육이수 현황(소속 기준)'!E73+'3. 교육이수 현황(소속 기준)'!E74+'3. 교육이수 현황(소속 기준)'!E75+'3. 교육이수 현황(소속 기준)'!E93+'3. 교육이수 현황(소속 기준)'!E94+'3. 교육이수 현황(소속 기준)'!E96+'3. 교육이수 현황(소속 기준)'!E97+'3. 교육이수 현황(소속 기준)'!E108+'3. 교육이수 현황(소속 기준)'!E109","v":1124},{"$f":"'3. 교육이수 현황(소속 기준)'!F39+'3. 교육이수 현황(소속 기준)'!F54+'3. 교육이수 현황(소속 기준)'!F55+'3. 교육이수 현황(소속 기준)'!F56+'3. 교육이수 현황(소속 기준)'!F57+'3. 교육이수 현황(소속 기준)'!F58+'3. 교육이수 현황(소속 기준)'!F59+'3. 교육이수 현황(소속 기준)'!F60+'3. 교육이수 현황(소속 기준)'!F61+'3. 교육이수 현황(소속 기준)'!F62+'3. 교육이수 현황(소속 기준)'!F63+'3. 교육이수 현황(소속 기준)'!F64+'3. 교육이수 현황(소속 기준)'!F65+'3. 교육이수 현황(소속 기준)'!F66+'3. 교육이수 현황(소속 기준)'!F67+'3. 교육이수 현황(소속 기준)'!F68+'3. 교육이수 현황(소속 기준)'!F69+'3. 교육이수 현황(소속 기준)'!F70+'3. 교육이수 현황(소속 기준)'!F71+'3. 교육이수 현황(소속 기준)'!F72+'3. 교육이수 현황(소속 기준)'!F73+'3. 교육이수 현황(소속 기준)'!F74+'3. 교육이수 현황(소속 기준)'!F75+'3. 교육이수 현황(소속 기준)'!F93+'3. 교육이수 현황(소속 기준)'!F94+'3. 교육이수 현황(소속 기준)'!F96+'3. 교육이수 현황(소속 기준)'!F97+'3. 교육이수 현황(소속 기준)'!F108+'3. 교육이수 현황(소속 기준)'!F109","v":218},{"$f":"C9-D9","v":906},{"$f":"D9/C9","v":0.19395017793594305}]
[null,"보건과학대학\n[보건과학대학원 포함]",{"$f":"'3. 교육이수 현황(소속 기준)'!E16+'3. 교육이수 현황(소속 기준)'!E84+'3. 교육이수 현황(소속 기준)'!E85+'3. 교육이수 현황(소속 기준)'!E86+'3. 교육이수 현황(소속 기준)'!E87+'3. 교육이수 현황(소속 기준)'!E88+'3. 교육이수 현황(소속 기준)'!E89+'3. 교육이수 현황(소속 기준)'!E90+'3. 교육이수 현황(소속 기준)'!E91+'3. 교육이수 현황(소속 기준)'!E92+'3. 교육이수 현황(소속 기준)'!E95+'3. 교육이수 현황(소속 기준)'!E98+'3. 교육이수 현황(소속 기준)'!E99+'3. 교육이수 현황(소속 기준)'!E100+'3. 교육이수 현황(소속 기준)'!E101+'3. 교육이수 현황(소속 기준)'!E102+'3. 교육이수 현황(소속 기준)'!E103+'3. 교육이수 현황(소속 기준)'!E104+'3. 교육이수 현황(소속 기준)'!E105+'3. 교육이수 현황(소속 기준)'!E106+'3. 교육이수 현황(소속 기준)'!E107+'3. 교육이수 현황(소속 기준)'!E110+'3. 교육이수 현황(소속 기준)'!E111+'3. 교육이수 현황(소속 기준)'!E112+'3. 교육이수 현황(소속 기준)'!E113+'3. 교육이수 현황(소속 기준)'!E114+'3. 교육이수 현황(소속 기준)'!E115","v":1342},{"$f":"'3. 교육이수 현황(소속 기준)'!F16+'3. 교육이수 현황(소속 기준)'!F84+'3. 교육이수 현황(소속 기준)'!F85+'3. 교육이수 현황(소속 기준)'!F86+'3. 교육이수 현황(소속 기준)'!F87+'3. 교육이수 현황(소속 기준)'!F88+'3. 교육이수 현황(소속 기준)'!F89+'3. 교육이수 현황(소속 기준)'!F90+'3. 교육이수 현황(소속 기준)'!F91+'3. 교육이수 현황(소속 기준)'!F92+'3. 교육이수 현황(소속 기준)'!F95+'3. 교육이수 현황(소속 기준)'!F98+'3. 교육이수 현황(소속 기준)'!F99+'3. 교육이수 현황(소속 기준)'!F100+'3. 교육이수 현황(소속 기준)'!F101+'3. 교육이수 현황(소속 기준)'!F102+'3. 교육이수 현황(소속 기준)'!F103+'3. 교육이수 현황(소속 기준)'!F104+'3. 교육이수 현황(소속 기준)'!F105+'3. 교육이수 현황(소속 기준)'!F106+'3. 교육이수 현황(소속 기준)'!F107+'3. 교육이수 현황(소속 기준)'!F110+'3. 교육이수 현황(소속 기준)'!F111+'3. 교육이수 현황(소속 기준)'!F112+'3. 교육이수 현황(소속 기준)'!F113+'3. 교육이수 현황(소속 기준)'!F114+'3. 교육이수 현황(소속 기준)'!F115","v":474},868,0.35320417287630401]
[null,"반도체시스템공학부",{"$f":"'3. 교육이수 현황(소속 기준)'!E81+'3. 교육이수 현황(소속 기준)'!E82+'3. 교육이수 현황(소속 기준)'!E83","v":111},{"$f":"'3. 교육이수 현황(소속 기준)'!F81+'3. 교육이수 현황(소속 기준)'!F82+'3. 교육이수 현황(소속 기준)'!F83","v":0},111,0]
[null,"RC융합대학",{"$f":"'3. 교육이수 현황(소속 기준)'!E40+'3. 교육이수 현황(소속 기준)'!E41+'3. 교육이수 현황(소속 기준)'!E42+'3. 교육이수 현황(소속 기준)'!E43+'3. 교육이수 현황(소속 기준)'!E44+'3. 교육이수 현황(소속 기준)'!E45+'3. 교육이수 현황(소속 기준)'!E46+'3. 교육이수 현황(소속 기준)'!E47+'3. 교육이수 현황(소속 기준)'!E48+'3. 교육이수 현황(소속 기준)'!E49+'3. 교육이수 현황(소속 기준)'!E50+'3. 교육이수 현황(소속 기준)'!E51+'3. 교육이수 현황(소속 기준)'!E52+'3. 교육이수 현황(소속 기준)'!E53","v":836},{"$f":"'3. 교육이수 현황(소속 기준)'!F40+'3. 교육이수 현황(소속 기준)'!F41+'3. 교육이수 현황(소속 기준)'!F42+'3. 교육이수 현황(소속 기준)'!F43+'3. 교육이수 현황(소속 기준)'!F44+'3. 교육이수 현황(소속 기준)'!F45+'3. 교육이수 현황(소속 기준)'!F46+'3. 교육이수 현황(소속 기준)'!F47+'3. 교육이수 현황(소속 기준)'!F48+'3. 교육이수 현황(소속 기준)'!F49+'3. 교육이수 현황(소속 기준)'!F50+'3. 교육이수 현황(소속 기준)'!F51+'3. 교육이수 현황(소속 기준)'!F52+'3. 교육이수 현황(소속 기준)'!F53","v":770},66,0.92105263157894735]
["소 계",null,{"$f":"SUM(C8:C12)","v":3674},{"$f":"SUM(D8:D12)","v":1499},{"$f":"SUM(C13-D13)","v":2175},{"$f":"D13/C13","v":0.40800217746325529}]
["대학원생","글로벌창의융합대학\n디자인예술학부",{"$f":"'3. 교육이수 현황(소속 기준)'!E17+'3. 교육이수 현황(소속 기준)'!E19+'3. 교육이수 현황(소속 기준)'!E26+'3. 교육이수 현황(소속 기준)'!E28","v":26},{"$f":"'3. 교육이수 현황(소속 기준)'!F17+'3. 교육이수 현황(소속 기준)'!F19+'3. 교육이수 현황(소속 기준)'!F26+'3. 교육이수 현황(소속 기준)'!F28","v":4},{"$f":"C14-D14","v":22},{"$f":"D14/C15","v":2.4242424242424242E-2}]
[null,"과학기술대학",{"$f":"'3. 교육이수 현황(소속 기준)'!E21+'3. 교육이수 현황(소속 기준)'!E27+'3. 교육이수 현황(소속 기준)'!E32+'3. 교육이수 현황(소속 기준)'!E33+'3. 교육이수 현황(소속 기준)'!E35+'3. 교육이수 현황(소속 기준)'!E36+'3. 교육이수 현황(소속 기준)'!E37+'3. 교육이수 현황(소속 기준)'!E38","v":165},{"$f":"'3. 교육이수 현황(소속 기준)'!F21+'3. 교육이수 현황(소속 기준)'!F27+'3. 교육이수 현황(소속 기준)'!F32+'3. 교육이수 현황(소속 기준)'!F33+'3. 교육이수 현황(소속 기준)'!F35+'3. 교육이수 현황(소속 기준)'!F36+'3. 교육이수 현황(소속 기준)'!F37+'3. 교육이수 현황(소속 기준)'!F38","v":68},{"$f":"C15-D15","v":97},{"$f":"D15/C16","v":0.145610278372591}]
[null,"보건과학대학\n[보건과학대학원 포함]",{"$f":"'3. 교육이수 현황(소속 기준)'!E8+'3. 교육이수 현황(소속 기준)'!E9+'3. 교육이수 현황(소속 기준)'!E10+'3. 교육이수 현황(소속 기준)'!E11+'3. 교육이수 현황(소속 기준)'!E12+'3. 교육이수 현황(소속 기준)'!E13+'3. 교육이수 현황(소속 기준)'!E14+'3. 교육이수 현황(소속 기준)'!E15+'3. 교육이수 현황(소속 기준)'!E18+'3. 교육이수 현황(소속 기준)'!E20+'3. 교육이수 현황(소속 기준)'!E22+'3. 교육이수 현황(소속 기준)'!E23+'3. 교육이수 현황(소속 기준)'!E24+'3. 교육이수 현황(소속 기준)'!E25+'3. 교육이수 현황(소속 기준)'!E29+'3. 교육이수 현황(소속 기준)'!E30+'3. 교육이수 현황(소속 기준)'!E31+'3. 교육이수 현황(소속 기준)'!E34","v":467},{"$f":"'3. 교육이수 현황(소속 기준)'!F8+'3. 교육이수 현황(소속 기준)'!F9+'3. 교육이수 현황(소속 기준)'!F10+'3. 교육이수 현황(소속 기준)'!F11+'3. 교육이수 현황(소속 기준)'!F12+'3. 교육이수 현황(소속 기준)'!F13+'3. 교육이수 현황(소속 기준)'!F14+'3. 교육이수 현황(소속 기준)'!F15+'3. 교육이수 현황(소속 기준)'!F18+'3. 교육이수 현황(소속 기준)'!F20+'3. 교육이수 현황(소속 기준)'!F22+'3. 교육이수 현황(소속 기준)'!F23+'3. 교육이수 현황(소속 기준)'!F24+'3. 교육이수 현황(소속 기준)'!F25+'3. 교육이수 현황(소속 기준)'!F29+'3. 교육이수 현황(소속 기준)'!F30+'3. 교육이수 현황(소속 기준)'!F31+'3. 교육이수 현황(소속 기준)'!F34","v":152},315,0.23100303951367782]
["소 계",null,{"$f":"SUM(C14:C16)","v":658},{"$f":"SUM(D14:D16)","v":224},{"$f":"SUM(C17-D17)","v":434},{"$f":"D17/C17","v":0.34042553191489361}]
["연구원","미래산학협력단",{"$f":"'3. 교육이수 현황(소속 기준)'!E6","v":29},{"$f":"'3. 교육이수 현황(소속 기준)'!F6","v":9},{"$f":"C18-D18","v":20},{"$f":"D18/C18","v":0.31034482758620691}]
["소 계",null,{"$f":"C18","v":29},{"$f":"D18","v":9},20,{"$f":"D19/C19","v":0.31034482758620691}]
["합계",null,{"$f":"SUM(C7+C13+C17+C19)","v":4511},{"$f":"SUM(D7+D13+D17+D19)","v":1768},{"$f":"SUM(C20-D20)","v":2743},0.39193083573487031]

{"sheet":"3. 교육이수 현황(소속 기준)","index":2,"n_rows":120,"n_cols":8,"rows_kept":120,"cut":false,"hidden":false,"merged":[[119,0,119,1],[1,0,1,7],[2,4,2,7]]}
[]
["2026학년도 1학기 연구활동종사자 정기안전교육(전체) 이수율 현황[소속 기준]"]
[{"$nulls":4},"[기준: 2026.04.02.최종]"]
["순번","소속1","소속2","소속3","대상자","이수자","미이수자","이수율"]
[1,"교직원","전임교원","전임교원",139,33,{"$f":"E5-F5","v":106},{"$f":"F5/E5","v":0.23741007194244604}]
[2,"소속외연구실","미래산학협력단","미래산학협력단",29,9,{"$f":"E6-F6","v":20},{"$f":"F6/E6","v":0.31034482758620691}]
[3,"직원","실습지원 직원","실습지원 직원",11,3,8,0.27272727272727271]
[4,"보건과학대학원","보건과학대학원","과학수사학전공",18,0,18,0]
[5,"보건과학대학원","보건과학대학원","구강건강증진학전공",13,3,10,0.23076923076923078]
[6,"보건과학대학원","보건과학대학원","보건관리학전공",29,0,29,0]
[7,"보건과학대학원","보건과학대학원","의생명과학전공",15,0,15,0]
[8,"보건과학대학원","보건과학대학원","인간공학치료학전공",17,0,17,0]
[9,"보건과학대학원","보건과학대학원","헬스케어융합학전공",6,0,6,0]
[10,"보건과학대학원","보건과학대학원","환경공학전공",12,0,12,0]
[11,"보건환경대학원","보건환경대학원","보건관리학전공",1,0,1,0]
[12,"의과대학(치위생)","원주의과대학","치위생학과",4,3,1,0.75]
[13,"일반대학원","일반대학원(원주)","디자인경영학협동과정",1,0,1,0]
[14,"일반대학원","일반대학원(원주)","디지털헬스케어학과",4,1,3,0.25]
[15,"일반대학원","일반대학원(원주)","로보틱아트학과",4,3,1,0.75]
[16,"일반대학원","일반대학원(원주)","물리치료학과",67,15,52,0.22388059701492538]
[17,"일반대학원","일반대학원(원주)","물리학과",4,1,3,0.25]
[18,"일반대학원","일반대학원(원주)","방사선융합공학과",39,4,35,0.10256410256410256]
[19,"일반대학원","일반대학원(원주)","방사선학과",1,0,1,0]
[20,"일반대학원","일반대학원(원주)","보건정책 및 관리학협동과정",12,0,12,0]
[21,"일반대학원","일반대학원(원주)","보건행정학과",55,7,48,0.12727272727272726]
[22,"일반대학원","일반대학원(원주)","산업디자인학과",6,0,6,0]
[23,"일반대학원","일반대학원(원주)","생명과학기술학",20,8,12,0.4]
[24,"일반대학원","일반대학원(원주)","시각디자인학과",15,1,14,6.6666666666666666E-2]
[25,"일반대학원","일반대학원(원주)","의공학과",67,30,37,0.44776119402985076]
[26,"일반대학원","일반대학원(원주)","임상병리학과",22,18,4,0.81818181818181823]
[27,"일반대학원","일반대학원(원주)","작업치료학과",69,57,12,0.82608695652173914]
[28,"일반대학원","일반대학원(원주)","전산학과",40,12,28,0.3]
[29,"일반대학원","일반대학원(원주)","정보통계학과",6,4,2,0.66666666666666663]
[30,"일반대학원","일반대학원(원주)","치위생학과",20,17,3,0.85]
[31,"일반대학원","일반대학원(원주)","패키징학과",36,2,34,5.5555555555555552E-2]
[32,"일반대학원","일반대학원(원주)","화학과",17,16,1,0.94117647058823528]
[33,"일반대학원","일반대학원(원주)","환경공학과",12,7,5,0.58333333333333337]
[34,"일반대학원","일반대학원(원주)","환경에너지공학과",30,18,12,0.6]
[35,"학부","인공지능융합대학","글로벌융합공학부",1,1,0,1]
[36,"학부(미래)","RC융합대학","AI반도체학부",49,44,5,0.89795918367346939]
[37,"학부(미래)","RC융합대학","AI보건정보관리학과",30,28,2,0.93333333333333335]
[38,"학부(미래)","RC융합대학","데이터사이언스학부",37,31,6,0.83783783783783783]
[39,"학부(미래)","RC융합대학","디자인예술학부",19,18,1,0.94736842105263153]
[40,"학부(미래)","RC융합대학","디지털헬스케어학부",51,46,5,0.90196078431372551]
[41,"학부(미래)","RC융합대학","물리치료학과",50,36,14,0.72]
[42,"학부(미래)","RC융합대학","방사선학과",32,32,0,1]
[43,"학부(미래)","RC융합대학","소프트웨어학부",145,139,6,0.95862068965517244]
[44,"학부(미래)","RC융합대학","임상병리학과",50,47,3,0.94]
[45,"학부(미래)","RC융합대학","자율융합계열",305,286,19,0.93770491803278688]
[46,"학부(미래)","RC융합대학","자율융합계열(공학)",2,0,2,0]
[47,"학부(미래)","RC융합대학","자율융합계열(자연과학)",1,0,1,0]
[48,"학부(미래)","RC융합대학","작업치료학과",37,35,2,0.94594594594594594]
[49,"학부(미래)","RC융합대학","치위생학과",28,28,0,1]
[50,"학부(미래)","과학기술대학","물리학",9,0,9,0]
[51,"학부(미래)","과학기술대학","생명과학",4,1,3,0.25]
[52,"학부(미래)","과학기술대학","생명과학기술학부",4,0,4,0]
[53,"학부(미래)","과학기술대학","수학",2,0,2,0]
[54,"학부(미래)","과학기술대학","응용생명과학",11,2,9,0.18181818181818182]
[55,"학부(미래)","과학기술대학","정보통계학",10,0,10,0]
[56,"학부(미래)","과학기술대학","컴퓨터공학",5,1,4,0.2]
[57,"학부(미래)","과학기술대학","컴퓨터정보통신공학부",35,2,33,5.7142857142857141E-2]
[58,"학부(미래)","과학기술대학","패키징학",10,3,7,0.3]
[59,"학부(미래)","과학기술대학","화학및의화학",14,6,8,0.42857142857142855]
[60,"학부(미래)","과학기술융합대학","과학기술융합대학",1,0,1,0]
[61,"학부(미래)","과학기술융합대학","AI반도체학부",1,0,1,0]
[62,"학부(미래)","과학기술융합대학","AI반도체학전공",47,3,44,6.3829787234042548E-2]
[63,"학부(미래)","과학기술융합대학","물리및공학물리학전공",51,5,46,9.8039215686274508E-2]
[64,"학부(미래)","과학기술융합대학","생명과학기술학부",4,0,4,0]
[65,"학부(미래)","과학기술융합대학","생명과학기술학전공",195,52,143,0.26666666666666666]
[66,"학부(미래)","과학기술융합대학","친환경에너지공학전공",50,5,{"$f":"E70-F70","v":45},{"$f":"F70/E70","v":0.1}]
[67,"학부(미래)","과학기술융합대학","패키징및물류학심화전공",1,0,1,0]
[68,"학부(미래)","과학기술융합대학","패키징및물류학전공",68,29,39,0.4264705882352941]
[69,"학부(미래)","과학기술융합대학","화학및의화학전공",111,72,39,0.64864864864864868]
[70,"학부(미래)","과학기술융합대학","환경공학전공",46,13,33,0.28260869565217389]
[71,"학부(미래)","과학기술융합대학","환경에너지공학부",3,0,3,0]
[72,"학부(미래)","글로벌창의융합대학","고위자과정",2,0,2,0]
[73,"학부(미래)","글로벌창의융합대학","디자인예술학부",1,0,1,0]
[74,"학부(미래)","글로벌창의융합대학","디지털아트학전공",30,17,13,0.56666666666666665]
[75,"학부(미래)","글로벌창의융합대학","산업디자인학전공",63,2,61,3.1746031746031744E-2]
[76,"학부(미래)","글로벌창의융합대학","시각디자인학",120,13,107,0.10833333333333334]
[77,"학부(미래)","반도체시스템공학부","반도체시스템융합공학전공",46,0,46,0]
[78,"학부(미래)","반도체시스템공학부","반도체인프라및환경융합전공",11,0,11,0]
[79,"학부(미래)","반도체시스템공학부","응용전기전자융합공학전공",54,0,54,0]
[80,"학부(미래)","보건과학대학","물리치료학과",7,1,6,0.14285714285714285]
[81,"학부(미래)","보건과학대학","방사선학과",2,0,2,0]
[82,"학부(미래)","보건과학대학","보건.환경.의공학부",1,0,1,0]
[83,"학부(미래)","보건과학대학","보건과학부 분자진단과학전공",18,0,18,0]
[84,"학부(미래)","보건과학대학","보건행정학과",3,0,3,0]
[85,"학부(미래)","보건과학대학","의공학부",23,2,21,8.6956521739130432E-2]
[86,"학부(미래)","보건과학대학","의료시스템공학",1,0,1,0]
[87,"학부(미래)","보건과학대학","임상병리학과",1,1,0,1]
[88,"학부(미래)","보건과학대학","작업치료학과",4,4,0,1]
[89,"학부(미래)","보건과학대학","친환경에너지공학",1,0,1,0]
[90,"학부(미래)","보건과학대학","환경공학부",23,2,21,8.6956521739130432E-2]
[91,"학부(미래)","소프트웨어디지털헬스케어융합대학","AI보건정보관리학과",57,2,55,3.5087719298245612E-2]
[92,"학부(미래)","소프트웨어디지털헬스케어융합대학","데이터사이언스학부",5,0,5,0]
[93,"학부(미래)","소프트웨어디지털헬스케어융합대학","데이터사이언스학전공",86,5,81,5.8139534883720929E-2]
[94,"학부(미래)","소프트웨어디지털헬스케어융합대학","디지털헬스케어전공",138,7,131,5.0724637681159424E-2]
[95,"학부(미래)","소프트웨어디지털헬스케어융합대학","디지털헬스케어학부",2,0,2,0]
[96,"학부(미래)","소프트웨어디지털헬스케어융합대학","물리치료학과",121,3,118,2.4793388429752067E-2]
[97,"학부(미래)","소프트웨어디지털헬스케어융합대학","바이오공학전공",48,5,43,0.10416666666666667]
[98,"학부(미래)","소프트웨어디지털헬스케어융합대학","방사선학과",123,5,118,4.065040650406504E-2]
[99,"학부(미래)","소프트웨어디지털헬스케어융합대학","보건과학부",1,0,1,0]
[100,"학부(미래)","소프트웨어디지털헬스케어융합대학","보건과학부 재활보건학전공",36,0,36,0]
[101,"학부(미래)","소프트웨어디지털헬스케어융합대학","보건의료정보관리학전공",21,0,21,0]
[102,"학부(미래)","소프트웨어디지털헬스케어융합대학","보건행정학부",5,0,5,0]
[103,"학부(미래)","소프트웨어디지털헬스케어융합대학","보건행정학전공",136,7,129,5.1470588235294115E-2]
[104,"학부(미래)","소프트웨어디지털헬스케어융합대학","소프트웨어전공",315,16,299,5.0793650793650794E-2]
[105,"학부(미래)","소프트웨어디지털헬스케어융합대학","소프트웨어학부",11,0,11,0]
[106,"학부(미래)","소프트웨어디지털헬스케어융합대학","의공학부",1,0,1,0]
[107,"학부(미래)","소프트웨어디지털헬스케어융합대학","의공학전공",188,69,119,0.36702127659574468]
[108,"학부(미래)","소프트웨어디지털헬스케어융합대학","임상병리학과",170,167,3,0.98235294117647054]
[109,"학부(미래)","소프트웨어디지털헬스케어융합대학","작업치료학과",117,114,3,0.97435897435897434]
[110,"학부(미래)","소프트웨어디지털헬스케어융합대학","치위생학과",95,84,11,0.88421052631578945]
[111,"학부(미래)","소프트웨어디지털헬스케어융합대학","헬스케어빅데이터전공",19,0,19,0]
[112,"학부(미래)","인문예술대학","디자인예술학부",39,5,34,0.12820512820512819]
[113,"학부(미래)","인문예술대학","디지털아트학",1,0,1,0]
[114,"학부(미래)","인문예술대학","산업디자인학",1,0,1,0]
[115,"학부(미래)","인문예술대학","시각디자인학",4,0,4,0]
["합계(명)",null,null,null,{"$f":"SUM(E5:E119)","v":4511},{"$f":"SUM(F5:F119)","v":1768},{"$f":"SUM(G5:G119)","v":2743},{"$f":"F120/E120","v":0.39193083573487031}]

{"sheet":"4. 교육이수 현황(이수율 기준)","index":3,"n_rows":120,"n_cols":8,"rows_kept":120,"cut":false,"hidden":false,"merged":[[1,0,1,7],[119,0,119,1],[2,5,2,7]]}
[]
["2026학년도 1학기 연구활동종사자 정기안전교육(전체) 이수율 현황[이수율 기준]"]
[{"$nulls":5},"[기준: 2026.04.02.최종]"]
["순번","소속1","소속2","소속3","대상자","이수자","미이수자","이수율"]
[1,"학부","인공지능융합대학","글로벌융합공학부",1,1,{"$f":"E5-F5","v":0},{"$f":"F5/E5","v":1}]
[2,"학부(미래)","RC융합대학","방사선학과",32,32,{"$f":"E6-F6","v":0},{"$f":"F6/E6","v":1}]
[3,"학부(미래)","RC융합대학","치위생학과",28,28,{"$f":"E7-F7","v":0},{"$f":"F7/E7","v":1}]
[4,"학부(미래)","보건과학대학","임상병리학과",1,1,{"$f":"E8-F8","v":0},{"$f":"F8/E8","v":1}]
[5,"학부(미래)","보건과학대학","작업치료학과",4,4,{"$f":"E9-F9","v":0},{"$f":"F9/E9","v":1}]
[6,"학부(미래)","소프트웨어디지털헬스케어융합대학","임상병리학과",170,167,{"$f":"E10-F10","v":3},{"$f":"F10/E10","v":0.98235294117647054}]
[7,"학부(미래)","소프트웨어디지털헬스케어융합대학","작업치료학과",117,114,{"$f":"E11-F11","v":3},{"$f":"F11/E11","v":0.97435897435897434}]
[8,"학부(미래)","RC융합대학","소프트웨어학부",145,139,{"$f":"E12-F12","v":6},{"$f":"F12/E12","v":0.95862068965517244}]
[9,"학부(미래)","RC융합대학","디자인예술학부",19,18,{"$f":"E13-F13","v":1},{"$f":"F13/E13","v":0.94736842105263153}]
[10,"학부(미래)","RC융합대학","작업치료학과",37,35,{"$f":"E14-F14","v":2},{"$f":"F14/E14","v":0.94594594594594594}]
[11,"일반대학원","일반대학원(원주)","화학과",17,16,{"$f":"E15-F15","v":1},{"$f":"F15/E15","v":0.94117647058823528}]
[12,"학부(미래)","RC융합대학","임상병리학과",50,47,{"$f":"E16-F16","v":3},{"$f":"F16/E16","v":0.94}]
[13,"학부(미래)","RC융합대학","자율융합계열",305,286,{"$f":"E17-F17","v":19},{"$f":"F17/E17","v":0.93770491803278688}]
[14,"학부(미래)","RC융합대학","AI보건정보관리학과",30,28,{"$f":"E18-F18","v":2},{"$f":"F18/E18","v":0.93333333333333335}]
[15,"학부(미래)","RC융합대학","디지털헬스케어학부",51,46,{"$f":"E19-F19","v":5},{"$f":"F19/E19","v":0.90196078431372551}]
[16,"학부(미래)","RC융합대학","AI반도체학부",49,44,{"$f":"E20-F20","v":5},{"$f":"F20/E20","v":0.89795918367346939}]
[17,"학부(미래)","소프트웨어디지털헬스케어융합대학","치위생학과",95,84,{"$f":"E21-F21","v":11},{"$f":"F21/E21","v":0.88421052631578945}]
[18,"일반대학원","일반대학원(원주)","치위생학과",20,17,{"$f":"E22-F22","v":3},{"$f":"F22/E22","v":0.85}]
[19,"학부(미래)","RC융합대학","데이터사이언스학부",37,31,{"$f":"E23-F23","v":6},{"$f":"F23/E23","v":0.83783783783783783}]
[20,"일반대학원","일반대학원(원주)","작업치료학과",69,57,{"$f":"E24-F24","v":12},{"$f":"F24/E24","v":0.82608695652173914}]
[21,"일반대학원","일반대학원(원주)","임상병리학과",22,18,{"$f":"E25-F25","v":4},{"$f":"F25/E25","v":0.81818181818181823}]
[22,"의과대학(치위생)","원주의과대학","치위생학과",4,3,{"$f":"E26-F26","v":1},{"$f":"F26/E26","v":0.75}]
[23,"일반대학원","일반대학원(원주)","로보틱아트학과",4,3,{"$f":"E27-F27","v":1},{"$f":"F27/E27","v":0.75}]
[24,"학부(미래)","RC융합대학","물리치료학과",50,36,{"$f":"E28-F28","v":14},{"$f":"F28/E28","v":0.72}]
[25,"일반대학원","일반대학원(원주)","정보통계학과",6,4,{"$f":"E29-F29","v":2},{"$f":"F29/E29","v":0.66666666666666663}]
[26,"학부(미래)","과학기술융합대학","화학및의화학전공",111,72,{"$f":"E30-F30","v":39},{"$f":"F30/E30","v":0.64864864864864868}]
[27,"일반대학원","일반대학원(원주)","환경에너지공학과",30,18,{"$f":"E31-F31","v":12},{"$f":"F31/E31","v":0.6}]
[28,"일반대학원","일반대학원(원주)","환경공학과",12,7,{"$f":"E32-F32","v":5},{"$f":"F32/E32","v":0.58333333333333337}]
[29,"학부(미래)","글로벌창의융합대학","디지털아트학전공",30,17,{"$f":"E33-F33","v":13},{"$f":"F33/E33","v":0.56666666666666665}]
[30,"일반대학원","일반대학원(원주)","의공학과",67,30,{"$f":"E34-F34","v":37},{"$f":"F34/E34","v":0.44776119402985076}]
[31,"학부(미래)","과학기술대학","화학및의화학",14,6,{"$f":"E35-F35","v":8},{"$f":"F35/E35","v":0.42857142857142855}]
[32,"학부(미래)","과학기술융합대학","패키징및물류학전공",68,29,{"$f":"E36-F36","v":39},{"$f":"F36/E36","v":0.4264705882352941}]
[33,"일반대학원","일반대학원(원주)","생명과학기술학",20,8,{"$f":"E37-F37","v":12},{"$f":"F37/E37","v":0.4}]
[34,"학부(미래)","소프트웨어디지털헬스케어융합대학","의공학전공",188,69,{"$f":"E38-F38","v":119},{"$f":"F38/E38","v":0.36702127659574468}]
[35,"소속외연구실","미래산학협력단","미래산학협력단",29,9,{"$f":"E39-F39","v":20},{"$f":"F39/E39","v":0.31034482758620691}]
[36,"일반대학원","일반대학원(원주)","전산학과",40,12,{"$f":"E40-F40","v":28},{"$f":"F40/E40","v":0.3}]
[37,"학부(미래)","과학기술대학","패키징학",10,3,{"$f":"E41-F41","v":7},{"$f":"F41/E41","v":0.3}]
[38,"학부(미래)","과학기술융합대학","환경공학전공",46,13,{"$f":"E42-F42","v":33},{"$f":"F42/E42","v":0.28260869565217389}]
[39,"직원","실습지원 직원","실습지원 직원",11,3,{"$f":"E43-F43","v":8},{"$f":"F43/E43","v":0.27272727272727271}]
[40,"학부(미래)","과학기술융합대학","생명과학기술학전공",195,52,{"$f":"E44-F44","v":143},{"$f":"F44/E44","v":0.26666666666666666}]
[41,"일반대학원","일반대학원(원주)","디지털헬스케어학과",4,1,{"$f":"E45-F45","v":3},{"$f":"F45/E45","v":0.25}]
[42,"일반대학원","일반대학원(원주)","물리학과",4,1,{"$f":"E46-F46","v":3},{"$f":"F46/E46","v":0.25}]
[43,"학부(미래)","과학기술대학","생명과학",4,1,{"$f":"E47-F47","v":3},{"$f":"F47/E47","v":0.25}]
[44,"교직원","전임교원","전임교원",139,33,{"$f":"E48-F48","v":106},{"$f":"F48/E48","v":0.23741007194244604}]
[45,"보건과학대학원","보건과학대학원","구강건강증진학전공",13,3,{"$f":"E49-F49","v":10},{"$f":"F49/E49","v":0.23076923076923078}]
[46,"일반대학원","일반대학원(원주)","물리치료학과",67,15,{"$f":"E50-F50","v":52},{"$f":"F50/E50","v":0.22388059701492538}]
[47,"학부(미래)","과학기술대학","컴퓨터공학",5,1,{"$f":"E51-F51","v":4},{"$f":"F51/E51","v":0.2}]
[48,"학부(미래)","과학기술대학","응용생명과학",11,2,{"$f":"E52-F52","v":9},{"$f":"F52/E52","v":0.18181818181818182}]
[49,"학부(미래)","보건과학대학","물리치료학과",7,1,{"$f":"E53-F53","v":6},{"$f":"F53/E53","v":0.14285714285714285}]
[50,"학부(미래)","인문예술대학","디자인예술학부",39,5,{"$f":"E54-F54","v":34},{"$f":"F54/E54","v":0.12820512820512819}]
[51,"일반대학원","일반대학원(원주)","보건행정학과",55,7,{"$f":"E55-F55","v":48},{"$f":"F55/E55","v":0.12727272727272726}]
[52,"학부(미래)","글로벌창의융합대학","시각디자인학",120,13,{"$f":"E56-F56","v":107},{"$f":"F56/E56","v":0.10833333333333334}]
[53,"학부(미래)","소프트웨어디지털헬스케어융합대학","바이오공학전공",48,5,{"$f":"E57-F57","v":43},{"$f":"F57/E57","v":0.10416666666666667}]
[54,"일반대학원","일반대학원(원주)","방사선융합공학과",39,4,{"$f":"E58-F58","v":35},{"$f":"F58/E58","v":0.10256410256410256}]
[55,"학부(미래)","과학기술융합대학","친환경에너지공학전공",50,5,{"$f":"E59-F59","v":45},{"$f":"F59/E59","v":0.1}]
[56,"학부(미래)","과학기술융합대학","물리및공학물리학전공",51,5,{"$f":"E60-F60","v":46},{"$f":"F60/E60","v":9.8039215686274508E-2}]
[57,"학부(미래)","보건과학대학","의공학부",23,2,{"$f":"E61-F61","v":21},{"$f":"F61/E61","v":8.6956521739130432E-2}]
[58,"학부(미래)","보건과학대학","환경공학부",23,2,{"$f":"E62-F62","v":21},{"$f":"F62/E62","v":8.6956521739130432E-2}]
[59,"일반대학원","일반대학원(원주)","시각디자인학과",15,1,{"$f":"E63-F63","v":14},{"$f":"F63/E63","v":6.6666666666666666E-2}]
[60,"학부(미래)","과학기술융합대학","AI반도체학전공",47,3,{"$f":"E64-F64","v":44},{"$f":"F64/E64","v":6.3829787234042548E-2}]
[61,"학부(미래)","소프트웨어디지털헬스케어융합대학","데이터사이언스학전공",86,5,{"$f":"E65-F65","v":81},{"$f":"F65/E65","v":5.8139534883720929E-2}]
[62,"학부(미래)","과학기술대학","컴퓨터정보통신공학부",35,2,{"$f":"E66-F66","v":33},{"$f":"F66/E66","v":5.7142857142857141E-2}]
[63,"일반대학원","일반대학원(원주)","패키징학과",36,2,{"$f":"E67-F67","v":34},{"$f":"F67/E67","v":5.5555555555555552E-2}]
[64,"학부(미래)","소프트웨어디지털헬스케어융합대학","보건행정학전공",136,7,{"$f":"E68-F68","v":129},{"$f":"F68/E68","v":5.1470588235294115E-2}]
[65,"학부(미래)","소프트웨어디지털헬스케어융합대학","소프트웨어전공",315,16,{"$f":"E69-F69","v":299},{"$f":"F69/E69","v":5.0793650793650794E-2}]
[66,"학부(미래)","소프트웨어디지털헬스케어융합대학","디지털헬스케어전공",138,7,{"$f":"E70-F70","v":131},{"$f":"F70/E70","v":5.0724637681159424E-2}]
[67,"학부(미래)","소프트웨어디지털헬스케어융합대학","방사선학과",123,5,{"$f":"E71-F71","v":118},{"$f":"F71/E71","v":4.065040650406504E-2}]
[68,"학부(미래)","소프트웨어디지털헬스케어융합대학","AI보건정보관리학과",57,2,{"$f":"E72-F72","v":55},{"$f":"F72/E72","v":3.5087719298245612E-2}]
[69,"학부(미래)","글로벌창의융합대학","산업디자인학전공",63,2,{"$f":"E73-F73","v":61},{"$f":"F73/E73","v":3.1746031746031744E-2}]
[70,"학부(미래)","소프트웨어디지털헬스케어융합대학","물리치료학과",121,3,{"$f":"E74-F74","v":118},{"$f":"F74/E74","v":2.4793388429752067E-2}]
[71,"보건과학대학원","보건과학대학원","과학수사학전공",18,0,{"$f":"E75-F75","v":18},{"$f":"F75/E75","v":0}]
[72,"보건과학대학원","보건과학대학원","보건관리학전공",29,0,{"$f":"E76-F76","v":29},{"$f":"F76/E76","v":0}]
[73,"보건과학대학원","보건과학대학원","의생명과학전공",15,0,{"$f":"E77-F77","v":15},{"$f":"F77/E77","v":0}]
[74,"보건과학대학원","보건과학대학원","인간공학치료학전공",17,0,{"$f":"E78-F78","v":17},{"$f":"F78/E78","v":0}]
[75,"보건과학대학원","보건과학대학원","헬스케어융합학전공",6,0,{"$f":"E79-F79","v":6},{"$f":"F79/E79","v":0}]
[76,"보건과학대학원","보건과학대학원","환경공학전공",12,0,{"$f":"E80-F80","v":12},{"$f":"F80/E80","v":0}]
[77,"보건환경대학원","보건환경대학원","보건관리학전공",1,0,{"$f":"E81-F81","v":1},{"$f":"F81/E81","v":0}]
[78,"일반대학원","일반대학원(원주)","디자인경영학협동과정",1,0,{"$f":"E82-F82","v":1},{"$f":"F82/E82","v":0}]
[79,"일반대학원","일반대학원(원주)","방사선학과",1,0,{"$f":"E83-F83","v":1},{"$f":"F83/E83","v":0}]
[80,"일반대학원","일반대학원(원주)","보건정책 및 관리학협동과정",12,0,{"$f":"E84-F84","v":12},{"$f":"F84/E84","v":0}]
[81,"일반대학원","일반대학원(원주)","산업디자인학과",6,0,{"$f":"E85-F85","v":6},{"$f":"F85/E85","v":0}]
[82,"학부(미래)","RC융합대학","자율융합계열(공학)",2,0,{"$f":"E86-F86","v":2},{"$f":"F86/E86","v":0}]
[83,"학부(미래)","RC융합대학","자율융합계열(자연과학)",1,0,{"$f":"E87-F87","v":1},{"$f":"F87/E87","v":0}]
[84,"학부(미래)","과학기술대학","물리학",9,0,{"$f":"E88-F88","v":9},{"$f":"F88/E88","v":0}]
[85,"학부(미래)","과학기술대학","생명과학기술학부",4,0,{"$f":"E89-F89","v":4},{"$f":"F89/E89","v":0}]
[86,"학부(미래)","과학기술대학","수학",2,0,{"$f":"E90-F90","v":2},{"$f":"F90/E90","v":0}]
[87,"학부(미래)","과학기술대학","정보통계학",10,0,{"$f":"E91-F91","v":10},{"$f":"F91/E91","v":0}]
[88,"학부(미래)","과학기술융합대학","과학기술융합대학",1,0,{"$f":"E92-F92","v":1},{"$f":"F92/E92","v":0}]
[89,"학부(미래)","과학기술융합대학","AI반도체학부",1,0,{"$f":"E93-F93","v":1},{"$f":"F93/E93","v":0}]
[90,"학부(미래)","과학기술융합대학","생명과학기술학부",4,0,{"$f":"E94-F94","v":4},{"$f":"F94/E94","v":0}]
[91,"학부(미래)","과학기술융합대학","패키징및물류학심화전공",1,0,{"$f":"E95-F95","v":1},{"$f":"F95/E95","v":0}]
[92,"학부(미래)","과학기술융합대학","환경에너지공학부",3,0,{"$f":"E96-F96","v":3},{"$f":"F96/E96","v":0}]
[93,"학부(미래)","글로벌창의융합대학","고위자과정",2,0,{"$f":"E97-F97","v":2},{"$f":"F97/E97","v":0}]
[94,"학부(미래)","글로벌창의융합대학","디자인예술학부",1,0,{"$f":"E98-F98","v":1},{"$f":"F98/E98","v":0}]
[95,"학부(미래)","반도체시스템공학부","반도체시스템융합공학전공",46,0,{"$f":"E99-F99","v":46},{"$f":"F99/E99","v":0}]
[96,"학부(미래)","반도체시스템공학부","반도체인프라및환경융합전공",11,0,{"$f":"E100-F100","v":11},{"$f":"F100/E100","v":0}]
[97,"학부(미래)","반도체시스템공학부","응용전기전자융합공학전공",54,0,{"$f":"E101-F101","v":54},{"$f":"F101/E101","v":0}]
[98,"학부(미래)","보건과학대학","방사선학과",2,0,{"$f":"E102-F102","v":2},{"$f":"F102/E102","v":0}]
[99,"학부(미래)","보건과학대학","보건.환경.의공학부",1,0,{"$f":"E103-F103","v":1},{"$f":"F103/E103","v":0}]
[100,"학부(미래)","보건과학대학","보건과학부 분자진단과학전공",18,0,{"$f":"E104-F104","v":18},{"$f":"F104/E104","v":0}]
[101,"학부(미래)","보건과학대학","보건행정학과",3,0,{"$f":"E105-F105","v":3},{"$f":"F105/E105","v":0}]
[102,"학부(미래)","보건과학대학","의료시스템공학",1,0,{"$f":"E106-F106","v":1},{"$f":"F106/E106","v":0}]
[103,"학부(미래)","보건과학대학","친환경에너지공학",1,0,{"$f":"E107-F107","v":1},{"$f":"F107/E107","v":0}]
[104,"학부(미래)","소프트웨어디지털헬스케어융합대학","데이터사이언스학부",5,0,{"$f":"E108-F108","v":5},{"$f":"F108/E108","v":0}]
[105,"학부(미래)","소프트웨어디지털헬스케어융합대학","디지털헬스케어학부",2,0,{"$f":"E109-F109","v":2},{"$f":"F109/E109","v":0}]
[106,"학부(미래)","소프트웨어디지털헬스케어융합대학","보건과학부",1,0,{"$f":"E110-F110","v":1},{"$f":"F110/E110","v":0}]
[107,"학부(미래)","소프트웨어디지털헬스케어융합대학","보건과학부 재활보건학전공",36,0,{"$f":"E111-F111","v":36},{"$f":"F111/E111","v":0}]
[108,"학부(미래)","소프트웨어디지털헬스케어융합대학","보건의료정보관리학전공",21,0,{"$f":"E112-F112","v":21},{"$f":"F112/E112","v":0}]
[109,"학부(미래)","소프트웨어디지털헬스케어융합대학","보건행정학부",5,0,{"$f":"E113-F113","v":5},{"$f":"F113/E113","v":0}]
[110,"학부(미래)","소프트웨어디지털헬스케어융합대학","소프트웨어학부",11,0,{"$f":"E114-F114","v":11},{"$f":"F114/E114","v":0}]
[111,"학부(미래)","소프트웨어디지털헬스케어융합대학","의공학부",1,0,{"$f":"E115-F115","v":1},{"$f":"F115/E115","v":0}]
[112,"학부(미래)","소프트웨어디지털헬스케어융합대학","헬스케어빅데이터전공",19,0,{"$f":"E116-F116","v":19},{"$f":"F116/E116","v":0}]
[113,"학부(미래)","인문예술대학","디지털아트학",1,0,{"$f":"E117-F117","v":1},{"$f":"F117/E117","v":0}]
[114,"학부(미래)","인문예술대학","산업디자인학",1,0,{"$f":"E118-F118","v":1},{"$f":"F118/E118","v":0}]
[115,"학부(미래)","인문예술대학","시각디자인학",4,0,{"$f":"E119-F119","v":4},{"$f":"F119/E119","v":0}]
["합계(명)",null,null,null,{"$f":"SUM(E5:E119)","v":4511},{"$f":"SUM(F5:F119)","v":1768},{"$f":"SUM(G5:G119)","v":2743},{"$f":"F120/E120","v":0.39193083573487031}]